View In:
ArcGIS JavaScript
ArcGIS Online Map Viewer
ArcGIS Earth
Service Description: 3D_Merapi_Public_WEL
Name: 3D_Merapi_Public_WEL
Description:
Single Fused Map Cache: true
Tile Info:
- Height: 256
- Width: 256
- DPI: 96
-
Levels of Detail: 19
-
Level ID: 0
[ Start Tile, End Tile ]
- Resolution: 78109.093304832582
- Scale: 295215470.75842232
-
Level ID: 1
[ Start Tile, End Tile ]
- Resolution: 39054.546652416291
- Scale: 147607735.37921116
-
Level ID: 2
[ Start Tile, End Tile ]
- Resolution: 19527.273326208146
- Scale: 73803867.689605579
-
Level ID: 3
[ Start Tile, End Tile ]
- Resolution: 9763.6366631040728
- Scale: 36901933.844802789
-
Level ID: 4
[ Start Tile, End Tile ]
- Resolution: 4881.8183315520364
- Scale: 18450966.922401395
-
Level ID: 5
[ Start Tile, End Tile ]
- Resolution: 2440.9091657760182
- Scale: 9225483.4612006973
-
Level ID: 6
[ Start Tile, End Tile ]
- Resolution: 1220.4545828880091
- Scale: 4612741.7306003487
-
Level ID: 7
[ Start Tile, End Tile ]
- Resolution: 610.22729144400455
- Scale: 2306370.8653001743
-
Level ID: 8
[ Start Tile, End Tile ]
- Resolution: 305.11364572200227
- Scale: 1153185.4326500872
-
Level ID: 9
[ Start Tile, End Tile ]
- Resolution: 152.55682286100114
- Scale: 576592.71632504358
-
Level ID: 10
[ Start Tile, End Tile ]
- Resolution: 76.278411430500569
- Scale: 288296.35816252179
-
Level ID: 11
[ Start Tile, End Tile ]
- Resolution: 38.139205715250284
- Scale: 144148.1790812609
-
Level ID: 12
[ Start Tile, End Tile ]
- Resolution: 19.069602857625142
- Scale: 72074.089540630448
-
Level ID: 13
[ Start Tile, End Tile ]
- Resolution: 9.5348014288125711
- Scale: 36037.044770315224
-
Level ID: 14
[ Start Tile, End Tile ]
- Resolution: 4.7674007144062855
- Scale: 18018.522385157612
-
Level ID: 15
[ Start Tile, End Tile ]
- Resolution: 2.3837003572031428
- Scale: 9009.261192578806
-
Level ID: 16
[ Start Tile, End Tile ]
- Resolution: 1.1918501786015714
- Scale: 4504.630596289403
-
Level ID: 17
[ Start Tile, End Tile ]
- Resolution: 0.59592508930078569
- Scale: 2252.3152981447015
-
Level ID: 18
[ Start Tile, End Tile ]
- Resolution: 0.29796254465039285
- Scale: 1126.1576490723508
- Format: LERC
- Compression Quality: 0.0
- LERC Error: 0.05
- Origin: X: -9497963.94301857
Y: 1.999796394301857E7
- Spatial Reference: 32749
(32749)
Storage Info:
- Storage Format: esriMapCacheStorageModeCompactV2
- Packet Size: 128
Extent:
XMin: 433300.99589840707
YMin: 9158327.580509022
XMax: 446126.23007870425
YMax: 9171385.571728133
Spatial Reference: 32749
(32749)
Initial Extent:
XMin: 433300.99589840707
YMin: 9158327.580509022
XMax: 446126.23007870425
YMax: 9171385.571728133
Spatial Reference: 32749
(32749)
Full Extent:
XMin: 433300.99589840707
YMin: 9158327.580509022
XMax: 446126.23007870425
YMax: 9171385.571728133
Spatial Reference: 32749
(32749)
Pixel Size X: 8.317272490465097
Pixel Size Y: 8.317191859306234
Band Count: 1
Pixel Type: F32
RasterFunction Infos: {"rasterFunctionInfos": [{
"help": "",
"name": "None",
"description": ""
}]}
Mensuration Capabilities: Basic
Inspection Capabilities:
Has Histograms: true
Has Colormap: false
Has Multi Dimensions : false
Rendering Rule:
Min Scale: 295215470.75842232
Max Scale: 2252.3152981447015
Min LOD: 0
Max LOD: 17
Copyright Text:
Service Data Type: esriImageServiceDataTypeGeneric
Min Values: 603.02728271484375
Max Values: 2912.62109375
Mean Values: 1243.227089578266
Standard Deviation Values: 402.37867619456455
Object ID Field:
Fields:
None
Default Mosaic Method: Center
Allowed Mosaic Methods:
SortField:
SortValue: N/A
Mosaic Operator: First
Default Compression Quality: 75
Default Resampling Method: Bilinear
Max Record Count: null
Max Image Height: 4100
Max Image Width: 15000
Max Download Image Count: null
Max Mosaic Image Count: null
Allow Raster Function: true
Allow Copy: true
Allow Analysis: true
Allow Compute TiePoints: false
Supports Statistics: false
Supports Advanced Queries: false
Use StandardizedQueries: false
Raster Type Infos:
Name: Raster Dataset
Description: Supports all ArcGIS Raster Datasets
Help:
Has Raster Attribute Table: false
Edit Fields Info: N/A
Ownership Based AccessControl For Rasters: N/A
Child Resources:
Info
Histograms
Statistics
Key Properties
Legend
Raster Function Infos
Supported Operations:
Export Image
Identify
Measure
Compute Histograms
Compute Statistics Histograms
Get Samples
Compute Class Statistics
Query Boundary
Compute Pixel Location
Compute Angles
Validate
Project