{
 "extent": {
  "ymin": 9158327.5805090219,
  "xmin": 433300.99589840707,
  "ymax": 9171385.5717281327,
  "xmax": 446126.23007870425,
  "spatialReference": {
   "latestWkid": 32749,
   "wkid": 32749
  }
 },
 "blockWidth": 128,
 "mosaicOperator": "First",
 "serviceSourceType": "esriImageServiceSourceTypeDataset",
 "hasMultidimensions": false,
 "maxImageWidth": 15000,
 "tileInfo": {
  "lods": [
   {
    "level": 0,
    "scale": 295215470.75842232,
    "resolution": 78109.093304832582
   },
   {
    "level": 1,
    "scale": 147607735.37921116,
    "resolution": 39054.546652416291
   },
   {
    "level": 2,
    "scale": 73803867.689605579,
    "resolution": 19527.273326208146
   },
   {
    "level": 3,
    "scale": 36901933.844802789,
    "resolution": 9763.6366631040728
   },
   {
    "level": 4,
    "scale": 18450966.922401395,
    "resolution": 4881.8183315520364
   },
   {
    "level": 5,
    "scale": 9225483.4612006973,
    "resolution": 2440.9091657760182
   },
   {
    "level": 6,
    "scale": 4612741.7306003487,
    "resolution": 1220.4545828880091
   },
   {
    "level": 7,
    "scale": 2306370.8653001743,
    "resolution": 610.22729144400455
   },
   {
    "level": 8,
    "scale": 1153185.4326500872,
    "resolution": 305.11364572200227
   },
   {
    "level": 9,
    "scale": 576592.71632504358,
    "resolution": 152.55682286100114
   },
   {
    "level": 10,
    "scale": 288296.35816252179,
    "resolution": 76.278411430500569
   },
   {
    "level": 11,
    "scale": 144148.1790812609,
    "resolution": 38.139205715250284
   },
   {
    "level": 12,
    "scale": 72074.089540630448,
    "resolution": 19.069602857625142
   },
   {
    "level": 13,
    "scale": 36037.044770315224,
    "resolution": 9.5348014288125711
   },
   {
    "level": 14,
    "scale": 18018.522385157612,
    "resolution": 4.7674007144062855
   },
   {
    "level": 15,
    "scale": 9009.261192578806,
    "resolution": 2.3837003572031428
   },
   {
    "level": 16,
    "scale": 4504.630596289403,
    "resolution": 1.1918501786015714
   },
   {
    "level": 17,
    "scale": 2252.3152981447015,
    "resolution": 0.59592508930078569
   },
   {
    "level": 18,
    "scale": 1126.1576490723508,
    "resolution": 0.29796254465039285
   }
  ],
  "lercError": 0.050000000000000003,
  "origin": {
   "x": -9497963.9430185705,
   "y": 19997963.943018571
  },
  "format": "LERC",
  "compressionQuality": 0,
  "rows": 256,
  "dpi": 96,
  "spatialReference": {
   "latestWkid": 32749,
   "wkid": 32749
  },
  "cols": 256
 },
 "meanValues": [
  1243.227089578266
 ],
 "hasColormap": false,
 "compressionType": "LZ77",
 "defaultCompressionQuality": 75,
 "maxValues": [
  2912.62109375
 ],
 "hasHistograms": true,
 "datasetFormat": "SDR",
 "maxImageHeight": 4100,
 "sortField": "",
 "bandNames": [
  "Band_1"
 ],
 "spatialReference": {
  "latestWkid": 32749,
  "wkid": 32749
 },
 "fullExtent": {
  "ymin": 9158327.5805090219,
  "xmin": 433300.99589840707,
  "ymax": 9171385.5717281327,
  "xmax": 446126.23007870425,
  "spatialReference": {
   "latestWkid": 32749,
   "wkid": 32749
  }
 },
 "bandCount": 1,
 "rasterFunctionInfos": [
  {
   "help": "",
   "name": "None",
   "description": ""
  }
 ],
 "supportsStatistics": false,
 "sortableFields": "",
 "minValues": [
  603.02728271484375
 ],
 "allowRasterFunction": true,
 "allowComputeTiePoints": false,
 "serviceDataType": "esriImageServiceDataTypeGeneric",
 "supportsAdvancedQueries": false,
 "currentVersion": 12,
 "sortValue": null,
 "objectIdField": "",
 "maxLOD": 17,
 "blockHeight": 128,
 "initialExtent": {
  "ymin": 9158327.5805090219,
  "xmin": 433300.99589840707,
  "ymax": 9171385.5717281327,
  "xmax": 446126.23007870425,
  "spatialReference": {
   "latestWkid": 32749,
   "wkid": 32749
  }
 },
 "pixelSizeX": 8.317272490465097,
 "pixelSizeY": 8.3171918593062344,
 "defaultMosaicMethod": "Center",
 "name": "3D_Merapi_Public_WEL",
 "allowedMosaicMethods": "",
 "fields": [],
 "allowAnalysis": true,
 "hasRasterAttributeTable": false,
 "useStandardizedQueries": false,
 "description": "",
 "pixelType": "F32",
 "meanPixelSize": 8.3172321748856657,
 "exportTilesAllowed": false,
 "editFieldsInfo": null,
 "rasterTypeInfos": [
  {
   "help": "",
   "name": "Raster Dataset",
   "description": "Supports all ArcGIS Raster Datasets"
  }
 ],
 "defaultResamplingMethod": "Bilinear",
 "itemAccess": false,
 "minScale": 295215470.75842232,
 "cacheType": "Elevation",
 "serviceProperties": "Center<\/MosaicMethod>First<\/MosaicOperator>true<\/SortAscending><\/LockImageID><\/TileOrderField>0<\/TileOrderBase>0.000000<\/AvgImageSpacingX>0.000000<\/AvgImageSpacingY>0.0<\/ViewPointX>0.0<\/ViewPointY>0.0<\/ViewPointDefShiftX>0.0<\/ViewPointDefShiftY>None<\/CompressionMethod>75<\/CompressionQuality>0.100000<\/CompressionTolerance>Bilinear<\/SamplingMethod><\/ImageServiceProperties><\/ImageServer>",
 "advancedQueryCapabilities": {
  "supportsStatistics": false,
  "supportsSqlExpression": false,
  "supportsOrderBy": false,
  "useStandardizedQueries": false,
  "supportsPagination": false,
  "supportsDistinct": false
 },
 "serviceItemId": "72fb71f34dc746299c5cc60fd2574beb",
 "capabilities": "Image,Metadata,Mensuration",
 "maxScale": 2252.3152981447015,
 "singleFusedMapCache": true,
 "stdvValues": [
  402.37867619456455
 ],
 "allowedFields": "",
 "minPixelSize": 0.59592508930078569,
 "storageInfo": {
  "storageFormat": "esriMapCacheStorageModeCompactV2",
  "packetSize": 128
 },
 "sortAscending": true,
 "inspectionCapabilities": "",
 "minLOD": 0,
 "maxPixelSize": 78109.093304832582,
 "uncompressedSize": 9677592,
 "serviceDescription": "3D_Merapi_Public_WEL",
 "allowCopy": true,
 "copyrightText": "",
 "mensurationCapabilities": "Basic",
 "ownershipBasedAccessControlForRasters": null
}
