View In:
ArcGIS JavaScript
ArcGIS Online Map Viewer
ArcGIS Earth
Service Description: Training_Experience_Builder/Merapi_Citra
Name: Training_Experience_Builder/Merapi_Citra
Description:
Single Fused Map Cache: false
Extent:
XMin: 110.39544119406739
YMin: -7.614006128208469
XMax: 110.51149336908952
YMax: -7.495959306428146
Spatial Reference: 4326
(4326)
Initial Extent:
XMin: 110.39544119406739
YMin: -7.614006128208469
XMax: 110.51149336908952
YMax: -7.495959306428146
Spatial Reference: 4326
(4326)
Full Extent:
XMin: 110.39544119406739
YMin: -7.614006128208469
XMax: 110.51149336908952
YMax: -7.495959306428146
Spatial Reference: 4326
(4326)
Pixel Size X: 9.06657617360418E-5
Pixel Size Y: 9.066576173603883E-5
Band Count: 3
Pixel Type: U8
RasterFunction Infos: {"rasterFunctionInfos": [{
"help": "",
"name": "None",
"description": ""
}]}
Mensuration Capabilities: Basic
Inspection Capabilities:
Has Histograms: true
Has Colormap: false
Has Multi Dimensions : false
Rendering Rule:
Min Scale: 0
Max Scale: 0
Copyright Text:
Service Data Type: esriImageServiceDataTypeRGB
Min Values: 0, 2, 5
Max Values: 255, 255, 255
Mean Values: 63.185889216334878, 77.047768689480961, 55.531722499548927
Standard Deviation Values: 40.342397835469924, 33.229923987251674, 33.976569571521843
Object ID Field:
Fields:
None
Default Mosaic Method: Center
Allowed Mosaic Methods:
SortField:
SortValue: N/A
Mosaic Operator: First
Default Compression Quality: 75
Default Resampling Method: Bilinear
Max Record Count: null
Max Image Height: 4100
Max Image Width: 15000
Max Download Image Count: null
Max Mosaic Image Count: null
Allow Raster Function: true
Allow Copy: true
Allow Analysis: true
Allow Compute TiePoints: false
Supports Statistics: false
Supports Advanced Queries: false
Use StandardizedQueries: false
Raster Type Infos:
Name: Raster Dataset
Description: Supports all ArcGIS Raster Datasets
Help:
Has Raster Attribute Table: false
Edit Fields Info: N/A
Ownership Based AccessControl For Rasters: N/A
Child Resources:
Info
Histograms
Statistics
Key Properties
Legend
Raster Function Infos
Supported Operations:
Export Image
Identify
Measure
Compute Histograms
Compute Statistics Histograms
Get Samples
Compute Class Statistics
Query Boundary
Compute Pixel Location
Compute Angles
Validate
Project