View In:
ArcGIS JavaScript
ArcGIS Online Map Viewer
ArcGIS Earth
ArcGIS Pro
Service Description:
Map Name: 3D Merapi
Legend
All Layers and Tables
Layers:
Description:
Service Item Id: b6b88d5765ac448797e04bd6cbdf9f5c
Copyright Text:
Spatial Reference:
32749
(32749)
Single Fused Map Cache: true
Tile Info:
- Height: 256.0
- Width: 256.0
- DPI: 96.0
-
Levels of Detail: 19
-
Level ID: 0
[ Start Tile, End Tile ]
- Resolution: 78109.0933048325824
- Scale: 295215470.758422315
-
Level ID: 1
[ Start Tile, End Tile ]
- Resolution: 39054.5466524162912
- Scale: 147607735.379211158
-
Level ID: 2
[ Start Tile, End Tile ]
- Resolution: 19527.2733262081456
- Scale: 73803867.6896055788
-
Level ID: 3
[ Start Tile, End Tile ]
- Resolution: 9763.6366631040728
- Scale: 36901933.8448027894
-
Level ID: 4
[ Start Tile, End Tile ]
- Resolution: 4881.8183315520364
- Scale: 18450966.9224013947
-
Level ID: 5
[ Start Tile, End Tile ]
- Resolution: 2440.9091657760182
- Scale: 9225483.46120069735
-
Level ID: 6
[ Start Tile, End Tile ]
- Resolution: 1220.4545828880091
- Scale: 4612741.73060034867
-
Level ID: 7
[ Start Tile, End Tile ]
- Resolution: 610.22729144400455
- Scale: 2306370.86530017434
-
Level ID: 8
[ Start Tile, End Tile ]
- Resolution: 305.113645722002275
- Scale: 1153185.43265008717
-
Level ID: 9
[ Start Tile, End Tile ]
- Resolution: 152.556822861001137
- Scale: 576592.716325043584
-
Level ID: 10
[ Start Tile, End Tile ]
- Resolution: 76.2784114305005687
- Scale: 288296.358162521792
-
Level ID: 11
[ Start Tile, End Tile ]
- Resolution: 38.1392057152502844
- Scale: 144148.1790812609
-
Level ID: 12
[ Start Tile, End Tile ]
- Resolution: 19.0696028576251422
- Scale: 72074.089540630448
-
Level ID: 13
[ Start Tile, End Tile ]
- Resolution: 9.5348014288125711
- Scale: 36037.044770315224
-
Level ID: 14
[ Start Tile, End Tile ]
- Resolution: 4.7674007144062855
- Scale: 18018.522385157612
-
Level ID: 15
[ Start Tile, End Tile ]
- Resolution: 2.3837003572031428
- Scale: 9009.261192578806
-
Level ID: 16
[ Start Tile, End Tile ]
- Resolution: 1.1918501786015714
- Scale: 4504.630596289403
-
Level ID: 17
[ Start Tile, End Tile ]
- Resolution: 0.59592508930078569
- Scale: 2252.3152981447015
-
Level ID: 18
[ Start Tile, End Tile ]
- Resolution: 0.29796254465039285
- Scale: 1126.15764907235075
- Format: PNG
- Compression Quality: 0.0
- Origin: X: -9497963.94301857
Y: 1.999796394301857E7
- Spatial Reference: 32749
(32749)
Storage Info:
- Storage Format: esriMapCacheStorageModeCompactV2
- Packet Size: 128
Initial Extent:
XMin: 431264.04559617734
YMin: 9161813.946155665
XMax: 454196.39457285684
YMax: 9170142.009731406
Spatial Reference: 32749
(32749)
Full Extent:
XMin: 432939.314811157
YMin: 9158719.218685785
XMax: 444716.37340075796
YMax: 9171476.460610107
Spatial Reference: 32749
(32749)
Units: esriMeters
Supported Image Format Types: PNG32,PNG24,PNG,JPG,DIB,TIFF,EMF,PS,PDF,GIF,SVG,SVGZ,BMP
Document Info:
Title: Scene
Author:
Comments:
Subject:
Category:
Keywords:
AntialiasingMode: Fast
TextAntialiasingMode: Force
Supports Dynamic Layers: false
MaxRecordCount: 1000
MaxSelectionCount: 0
MaxImageHeight: 4096
MaxImageWidth: 4096
Supported Query Formats: JSON, geoJSON, PBF
Supports Query Data Elements: true
Min Scale: 144148.1790812609
Max Scale: 4504.630596289403
Min LOD: 11
Max LOD: 16
Supports Datum Transformation: true
Child Resources:
Info
Supported Operations:
QueryLegends
Return Updates