View In:
ArcGIS JavaScript
ArcGIS Online Map Viewer
ArcGIS Earth
ArcGIS Pro
Service Description:
Map Name: 3D Merapi
Legend
All Layers and Tables
Layers:
Description:
Service Item Id: 92b6bcbda9e34ebdbd4813f717ec4358
Copyright Text:
Spatial Reference:
4326
(4326)
Single Fused Map Cache: true
Tile Info:
- Height: 256.0
- Width: 256.0
- DPI: 96.0
-
Levels of Detail: 23
-
Level ID: 7
[ Start Tile, End Tile ]
- Resolution: 0.0054931640625
- Scale: 2311162.21715511475
-
Level ID: 8
[ Start Tile, End Tile ]
- Resolution: 0.00274658203125
- Scale: 1155581.10857755737
-
Level ID: 9
[ Start Tile, End Tile ]
- Resolution: 0.001373291015625
- Scale: 577790.554288778687
-
Level ID: 10
[ Start Tile, End Tile ]
- Resolution: 0.0006866455078125
- Scale: 288895.277144389343
-
Level ID: 11
[ Start Tile, End Tile ]
- Resolution: 0.00034332275390625
- Scale: 144447.638572194672
-
Level ID: 12
[ Start Tile, End Tile ]
- Resolution: 0.000171661376953125
- Scale: 72223.8192860973359
-
Level ID: 13
[ Start Tile, End Tile ]
- Resolution: 0.0000858306884765625
- Scale: 36111.9096430486679
-
Level ID: 14
[ Start Tile, End Tile ]
- Resolution: 0.00004291534423828125
- Scale: 18055.954821524334
-
Level ID: 15
[ Start Tile, End Tile ]
- Resolution: 0.000021457672119140625
- Scale: 9027.977410762167
-
Level ID: 16
[ Start Tile, End Tile ]
- Resolution: 0.000010728836059570313
- Scale: 4513.98870538108349
-
Level ID: 17
[ Start Tile, End Tile ]
- Resolution: 0.0000053644180297851563
- Scale: 2256.99435269054175
-
Level ID: 18
[ Start Tile, End Tile ]
- Resolution: 0.0000026822090148925781
- Scale: 1128.49717634527087
-
Level ID: 19
[ Start Tile, End Tile ]
- Resolution: 0.0000013411045074462891
- Scale: 564.248588172635436
-
Level ID: 20
[ Start Tile, End Tile ]
- Resolution: 6.7055225372314453E-7
- Scale: 282.124294086317718
-
Level ID: 21
[ Start Tile, End Tile ]
- Resolution: 3.3527612686157227E-7
- Scale: 141.062147043158859
-
Level ID: 22
[ Start Tile, End Tile ]
- Resolution: 1.6763806343078613E-7
- Scale: 70.53107352157943
- Format: Mixed
- Compression Quality: 75.0
- Origin: X: -180.0
Y: 90.0
- Spatial Reference: 4326
(4326)
Storage Info:
- Storage Format: esriMapCacheStorageModeCompactV2
- Packet Size: 128
Initial Extent:
XMin: 110.40489921476158
YMin: -7.561744004968411
XMax: 110.45448047338688
YMax: -7.543738179467649
Spatial Reference: 4326
(4326)
Full Extent:
XMin: 110.39544119406737
YMin: -7.614006128207981
XMax: 110.5114933690845
YMax: -7.495959306428146
Spatial Reference: 4326
(4326)
Units: esriDecimalDegrees
Supported Image Format Types: PNG32,PNG24,PNG,JPG,DIB,TIFF,EMF,PS,PDF,GIF,SVG,SVGZ,BMP
Document Info:
Title: Scene
Author:
Comments:
Subject:
Category:
Keywords:
AntialiasingMode: Fast
TextAntialiasingMode: Force
Supports Dynamic Layers: false
MaxRecordCount: 1000
MaxSelectionCount: 0
MaxImageHeight: 4096
MaxImageWidth: 4096
Supported Query Formats: JSON, geoJSON, PBF
Supports Query Data Elements: true
Min Scale: 144447.63857219467
Max Scale: 4513.9887053810835
Supports Datum Transformation: true
Child Resources:
Info
Supported Operations:
QueryLegends
Return Updates