{
 "documentInfo": {
  "Category": "",
  "Keywords": "",
  "Version": "3.2.0",
  "Comments": "",
  "AntialiasingMode": "Fast",
  "Title": "Scene",
  "Author": "",
  "TextAntialiasingMode": "Force",
  "Subject": ""
 },
 "maxImageWidth": 4096,
 "maxRecordCount": 1000,
 "tileInfo": {
  "lods": [
   {
    "level": 0,
    "scale": 295215470.758422315,
    "resolution": 78109.0933048325824
   },
   {
    "level": 1,
    "scale": 147607735.379211158,
    "resolution": 39054.5466524162912
   },
   {
    "level": 2,
    "scale": 73803867.6896055788,
    "resolution": 19527.2733262081456
   },
   {
    "level": 3,
    "scale": 36901933.8448027894,
    "resolution": 9763.6366631040728
   },
   {
    "level": 4,
    "scale": 18450966.9224013947,
    "resolution": 4881.8183315520364
   },
   {
    "level": 5,
    "scale": 9225483.46120069735,
    "resolution": 2440.9091657760182
   },
   {
    "level": 6,
    "scale": 4612741.73060034867,
    "resolution": 1220.4545828880091
   },
   {
    "level": 7,
    "scale": 2306370.86530017434,
    "resolution": 610.22729144400455
   },
   {
    "level": 8,
    "scale": 1153185.43265008717,
    "resolution": 305.113645722002275
   },
   {
    "level": 9,
    "scale": 576592.716325043584,
    "resolution": 152.556822861001137
   },
   {
    "level": 10,
    "scale": 288296.358162521792,
    "resolution": 76.2784114305005687
   },
   {
    "level": 11,
    "scale": 144148.1790812609,
    "resolution": 38.1392057152502844
   },
   {
    "level": 12,
    "scale": 72074.089540630448,
    "resolution": 19.0696028576251422
   },
   {
    "level": 13,
    "scale": 36037.044770315224,
    "resolution": 9.5348014288125711
   },
   {
    "level": 14,
    "scale": 18018.522385157612,
    "resolution": 4.7674007144062855
   },
   {
    "level": 15,
    "scale": 9009.261192578806,
    "resolution": 2.3837003572031428
   },
   {
    "level": 16,
    "scale": 4504.630596289403,
    "resolution": 1.1918501786015714
   },
   {
    "level": 17,
    "scale": 2252.3152981447015,
    "resolution": 0.59592508930078569
   },
   {
    "level": 18,
    "scale": 1126.15764907235075,
    "resolution": 0.29796254465039285
   }
  ],
  "origin": {
   "x": -9497963.94301857054,
   "y": 19997963.9430185705
  },
  "format": "Mixed",
  "compressionQuality": 75,
  "rows": 256,
  "dpi": 96,
  "spatialReference": {
   "falseM": -100000,
   "xyTolerance": 0.001,
   "mUnits": 10000,
   "zUnits": 10000,
   "latestWkid": 32749,
   "zTolerance": 0.001,
   "wkid": 32749,
   "xyUnits": 10000,
   "mTolerance": 0.001,
   "falseX": -5120900,
   "falseY": 1900,
   "falseZ": -100000
  },
  "cols": 256
 },
 "description": "",
 "datesInUnknownTimezone": false,
 "supportsQueryDomains": true,
 "units": "esriMeters",
 "supportedImageFormatTypes": "PNG32,PNG24,PNG,JPG,DIB,TIFF,EMF,PS,PDF,GIF,SVG,SVGZ,BMP",
 "supportsClipping": true,
 "maxImageHeight": 4096,
 "exportTilesAllowed": false,
 "tables": [],
 "supportsDatumTransformation": true,
 "cimVersion": "3.2.0",
 "supportsQueryDataElements": true,
 "layers": [
  {
   "subLayerIds": null,
   "maxScale": 0,
   "name": "3D Merapi-Citra Merapi",
   "defaultVisibility": true,
   "id": 0,
   "minScale": 0,
   "supportsDynamicLegends": true,
   "type": "Raster Layer",
   "parentLayerId": -1
  }
 ],
 "mapName": "3D Merapi",
 "archivingInfo": {
  "supportsHistoricMoment": false
 },
 "minScale": 144148.1790812609,
 "spatialReference": {
  "falseM": -100000,
  "xyTolerance": 0.001,
  "mUnits": 10000,
  "zUnits": 10000,
  "latestWkid": 32749,
  "zTolerance": 0.001,
  "wkid": 32749,
  "xyUnits": 10000,
  "mTolerance": 0.001,
  "falseX": -5120900,
  "falseY": 1900,
  "falseZ": -100000
 },
 "fullExtent": {
  "ymin": 9158327.36115808412,
  "xmin": 433297.642236336891,
  "ymax": 9171393.98768091388,
  "xmax": 446116.911789538048,
  "spatialReference": {
   "falseM": -100000,
   "xyTolerance": 0.001,
   "mUnits": 10000,
   "zUnits": 10000,
   "latestWkid": 32749,
   "zTolerance": 0.001,
   "wkid": 32749,
   "xyUnits": 10000,
   "mTolerance": 0.001,
   "falseX": -5120900,
   "falseY": 1900,
   "falseZ": -100000
  }
 },
 "supportedExtensions": "",
 "serviceItemId": "fd6c28ddf81c457d9dccd21325e5bb4a",
 "capabilities": "TilesOnly,Tilemap",
 "supportsDynamicLayers": false,
 "maxScale": 4504.630596289403,
 "singleFusedMapCache": true,
 "currentVersion": 11.2,
 "storageInfo": {
  "storageFormat": "esriMapCacheStorageModeCompactV2",
  "packetSize": 128
 },
 "mapUnits": {
  "uwkid": 9001
 },
 "referenceScale": 0,
 "floorAwareMapProperties": {
  "defaultFloorFilterSettings": {
   "isEnabled": false
  }
 },
 "maxExportTilesCount": 100000,
 "supportsSpatialFilter": true,
 "maxLOD": 16,
 "supportedQueryFormats": "JSON, geoJSON, PBF",
 "minLOD": 11,
 "initialExtent": {
  "ymin": 9161813.94615566544,
  "xmin": 431264.04559617734,
  "ymax": 9170142.00973140635,
  "xmax": 454196.394572856836,
  "spatialReference": {
   "falseM": -100000,
   "xyTolerance": 0.001,
   "mUnits": 10000,
   "zUnits": 10000,
   "latestWkid": 32749,
   "zTolerance": 0.001,
   "wkid": 32749,
   "xyUnits": 10000,
   "mTolerance": 0.001,
   "falseX": -5120900,
   "falseY": 1900,
   "falseZ": -100000
  }
 },
 "serviceDescription": "",
 "copyrightText": "",
 "supportsTimeRelation": true
}
