{
 "documentInfo": {
  "Category": "",
  "Keywords": "",
  "Version": "3.2.0",
  "Comments": "",
  "AntialiasingMode": "Fast",
  "Title": "Scene",
  "Author": "",
  "TextAntialiasingMode": "Force",
  "Subject": ""
 },
 "maxImageWidth": 4096,
 "maxRecordCount": 1000,
 "tileInfo": {
  "lods": [
   {
    "level": 0,
    "scale": 295828763.795854688,
    "resolution": 0.703125
   },
   {
    "level": 1,
    "scale": 147914381.897927344,
    "resolution": 0.3515625
   },
   {
    "level": 2,
    "scale": 73957190.9489636719,
    "resolution": 0.17578125
   },
   {
    "level": 3,
    "scale": 36978595.474481836,
    "resolution": 0.087890625
   },
   {
    "level": 4,
    "scale": 18489297.737240918,
    "resolution": 0.0439453125
   },
   {
    "level": 5,
    "scale": 9244648.868620459,
    "resolution": 0.02197265625
   },
   {
    "level": 6,
    "scale": 4622324.4343102295,
    "resolution": 0.010986328125
   },
   {
    "level": 7,
    "scale": 2311162.21715511475,
    "resolution": 0.0054931640625
   },
   {
    "level": 8,
    "scale": 1155581.10857755737,
    "resolution": 0.00274658203125
   },
   {
    "level": 9,
    "scale": 577790.554288778687,
    "resolution": 0.001373291015625
   },
   {
    "level": 10,
    "scale": 288895.277144389343,
    "resolution": 0.0006866455078125
   },
   {
    "level": 11,
    "scale": 144447.638572194672,
    "resolution": 0.00034332275390625
   },
   {
    "level": 12,
    "scale": 72223.8192860973359,
    "resolution": 0.000171661376953125
   },
   {
    "level": 13,
    "scale": 36111.9096430486679,
    "resolution": 0.0000858306884765625
   },
   {
    "level": 14,
    "scale": 18055.954821524334,
    "resolution": 0.00004291534423828125
   },
   {
    "level": 15,
    "scale": 9027.977410762167,
    "resolution": 0.000021457672119140625
   },
   {
    "level": 16,
    "scale": 4513.98870538108349,
    "resolution": 0.000010728836059570313
   },
   {
    "level": 17,
    "scale": 2256.99435269054175,
    "resolution": 0.0000053644180297851563
   },
   {
    "level": 18,
    "scale": 1128.49717634527087,
    "resolution": 0.0000026822090148925781
   },
   {
    "level": 19,
    "scale": 564.248588172635436,
    "resolution": 0.0000013411045074462891
   },
   {
    "level": 20,
    "scale": 282.124294086317718,
    "resolution": 6.7055225372314453E-7
   },
   {
    "level": 21,
    "scale": 141.062147043158859,
    "resolution": 3.3527612686157227E-7
   },
   {
    "level": 22,
    "scale": 70.53107352157943,
    "resolution": 1.6763806343078613E-7
   }
  ],
  "origin": {
   "x": -180,
   "y": 90
  },
  "format": "PNG",
  "compressionQuality": 0,
  "rows": 256,
  "dpi": 96,
  "spatialReference": {
   "falseM": -100000,
   "xyTolerance": 8.9831528411952133E-9,
   "mUnits": 10000,
   "zUnits": 10000,
   "latestWkid": 4326,
   "zTolerance": 0.001,
   "wkid": 4326,
   "xyUnits": 11258999068426.24,
   "mTolerance": 0.001,
   "falseX": -399.999999999999886,
   "falseY": -399.999999999999886,
   "falseZ": -100000
  },
  "cols": 256
 },
 "description": "",
 "datesInUnknownTimezone": false,
 "supportsQueryDomains": true,
 "units": "esriDecimalDegrees",
 "supportedImageFormatTypes": "PNG32,PNG24,PNG,JPG,DIB,TIFF,EMF,PS,PDF,GIF,SVG,SVGZ,BMP",
 "supportsClipping": true,
 "maxImageHeight": 4096,
 "exportTilesAllowed": false,
 "tables": [],
 "supportsDatumTransformation": true,
 "cimVersion": "3.2.0",
 "supportsQueryDataElements": true,
 "layers": [
  {
   "subLayerIds": [
    1
   ],
   "maxScale": 0,
   "name": "Anno Label",
   "defaultVisibility": true,
   "id": 0,
   "minScale": 0,
   "supportsDynamicLegends": false,
   "type": "Annotation Layer",
   "parentLayerId": -1,
   "geometryType": "esriGeometryPolygon"
  },
  {
   "subLayerIds": null,
   "maxScale": 0,
   "name": "Class 1",
   "defaultVisibility": true,
   "id": 1,
   "minScale": 0,
   "supportsDynamicLegends": false,
   "parentLayerId": 0
  }
 ],
 "mapName": "3D Merapi",
 "archivingInfo": {
  "supportsHistoricMoment": false
 },
 "minScale": 144447.63857219467,
 "spatialReference": {
  "falseM": -100000,
  "xyTolerance": 8.983152841195215E-9,
  "mUnits": 10000,
  "zUnits": 10000,
  "latestWkid": 4326,
  "zTolerance": 0.001,
  "wkid": 4326,
  "xyUnits": 999999999.99999988,
  "mTolerance": 0.001,
  "falseX": -400,
  "falseY": -400,
  "falseZ": -100000
 },
 "fullExtent": {
  "ymin": -7.6104571476791989,
  "xmin": 110.392194655159244,
  "ymax": -7.4951990297113866,
  "xmax": 110.498800454177683,
  "spatialReference": {
   "cs": "gcs",
   "wkid": 4326
  }
 },
 "supportedExtensions": "",
 "serviceItemId": "f600ed8590f543f7806c6f963ff2df56",
 "capabilities": "TilesOnly,Tilemap",
 "supportsDynamicLayers": false,
 "maxScale": 2256.9943526905417,
 "singleFusedMapCache": true,
 "currentVersion": 11.2,
 "storageInfo": {
  "storageFormat": "esriMapCacheStorageModeCompactV2",
  "packetSize": 128
 },
 "mapUnits": {
  "uwkid": 9102
 },
 "referenceScale": 0,
 "floorAwareMapProperties": {
  "defaultFloorFilterSettings": {
   "isEnabled": false
  }
 },
 "maxExportTilesCount": 100000,
 "supportsSpatialFilter": true,
 "supportedQueryFormats": "JSON, geoJSON, PBF",
 "initialExtent": {
  "ymin": -7.5617440049684106,
  "xmin": 110.404899214761585,
  "ymax": -7.543738179467649,
  "xmax": 110.45448047338688,
  "spatialReference": {
   "cs": "gcs",
   "wkid": 4326
  }
 },
 "serviceDescription": "",
 "copyrightText": "",
 "supportsTimeRelation": true
}
